BEGIN:VCALENDAR
VERSION:2.0
PRODID:-//Wiggle Room - ECPv6.15.20//NONSGML v1.0//EN
CALSCALE:GREGORIAN
METHOD:PUBLISH
X-ORIGINAL-URL:https://wiggleroommke.com
X-WR-CALDESC:Events for Wiggle Room
REFRESH-INTERVAL;VALUE=DURATION:PT1H
X-Robots-Tag:noindex
X-PUBLISHED-TTL:PT1H
BEGIN:VTIMEZONE
TZID:America/Chicago
BEGIN:DAYLIGHT
TZOFFSETFROM:-0600
TZOFFSETTO:-0500
TZNAME:CDT
DTSTART:20240310T080000
END:DAYLIGHT
BEGIN:STANDARD
TZOFFSETFROM:-0500
TZOFFSETTO:-0600
TZNAME:CST
DTSTART:20241103T070000
END:STANDARD
BEGIN:DAYLIGHT
TZOFFSETFROM:-0600
TZOFFSETTO:-0500
TZNAME:CDT
DTSTART:20250309T080000
END:DAYLIGHT
BEGIN:STANDARD
TZOFFSETFROM:-0500
TZOFFSETTO:-0600
TZNAME:CST
DTSTART:20251102T070000
END:STANDARD
BEGIN:DAYLIGHT
TZOFFSETFROM:-0600
TZOFFSETTO:-0500
TZNAME:CDT
DTSTART:20260308T080000
END:DAYLIGHT
BEGIN:STANDARD
TZOFFSETFROM:-0500
TZOFFSETTO:-0600
TZNAME:CST
DTSTART:20261101T070000
END:STANDARD
END:VTIMEZONE
BEGIN:VEVENT
DTSTART;TZID=America/Chicago:20251031T200000
DTEND;TZID=America/Chicago:20251101T120000
DTSTAMP:20260420T113753
CREATED:20250904T163938Z
LAST-MODIFIED:20251007T202208Z
UID:786-1761940800-1761998400@wiggleroommke.com
SUMMARY:ITALOWEEN!!!
DESCRIPTION:DJ’s David Arnevik & Brian Small are throwing their ITALOWEEN ITALO DISCO party for Halloween!  Costumes encouraged\, dancing is mandatory!
URL:https://wiggleroommke.com/event/italoween/
ATTACH;FMTTYPE=image/jpeg:https://wiggleroommke.com/wp-content/uploads/2025/09/IMG_2037.jpeg
END:VEVENT
BEGIN:VEVENT
DTSTART;TZID=America/Chicago:20251105T190000
DTEND;TZID=America/Chicago:20251105T230000
DTSTAMP:20260420T113753
CREATED:20251018T182725Z
LAST-MODIFIED:20251104T163944Z
UID:860-1762369200-1762383600@wiggleroommke.com
SUMMARY:DJ AiMS
DESCRIPTION:
URL:https://wiggleroommke.com/event/dj-aims-2/
ATTACH;FMTTYPE=image/jpeg:https://wiggleroommke.com/wp-content/uploads/2025/10/BE4CDB39-6A4C-4BD3-98B3-41214A03A9BC.jpeg
END:VEVENT
BEGIN:VEVENT
DTSTART;TZID=America/Chicago:20251106T190000
DTEND;TZID=America/Chicago:20251106T230000
DTSTAMP:20260420T113753
CREATED:20251104T164335Z
LAST-MODIFIED:20251104T164455Z
UID:867-1762455600-1762470000@wiggleroommke.com
SUMMARY:DJ JMMBO presents “Milwaukee Wintertime Blues” (with no blues)
DESCRIPTION:soft rock\, pop & yacht you heard at the Dentist office
URL:https://wiggleroommke.com/event/dj-jmmbo-presents-wintertime-blues-with-no-blues/
ATTACH;FMTTYPE=image/jpeg:https://wiggleroommke.com/wp-content/uploads/2025/11/339097B1-D535-4517-9F86-345CC0D9E6EA.jpeg
END:VEVENT
BEGIN:VEVENT
DTSTART;TZID=America/Chicago:20251107T160000
DTEND;TZID=America/Chicago:20251107T200000
DTSTAMP:20260420T113753
CREATED:20251104T164746Z
LAST-MODIFIED:20251104T164747Z
UID:870-1762531200-1762545600@wiggleroommke.com
SUMMARY:Josh Davis plays records\, Tyler serves drinks\, a Happy Hour extravaganza
DESCRIPTION:
URL:https://wiggleroommke.com/event/josh-davis-plays-records-tyler-serves-drinks-a-happy-hour-extravaganza/
ATTACH;FMTTYPE=image/jpeg:https://wiggleroommke.com/wp-content/uploads/2025/11/IMG_2313.jpeg
END:VEVENT
BEGIN:VEVENT
DTSTART;TZID=America/Chicago:20251107T200000
DTEND;TZID=America/Chicago:20251108T000000
DTSTAMP:20260420T113753
CREATED:20251104T164953Z
LAST-MODIFIED:20251104T164954Z
UID:872-1762545600-1762560000@wiggleroommke.com
SUMMARY:FUZZY LOGIC
DESCRIPTION:Boogie\, Funk\, Hip Hop\, Soul\, Bossa Nova\, Yacht\, Pop and anything that makes you move
URL:https://wiggleroommke.com/event/fuzzy-logic/
END:VEVENT
BEGIN:VEVENT
DTSTART;TZID=America/Chicago:20251108T200000
DTEND;TZID=America/Chicago:20251109T000000
DTSTAMP:20260420T113753
CREATED:20251104T165427Z
LAST-MODIFIED:20251104T165428Z
UID:875-1762632000-1762646400@wiggleroommke.com
SUMMARY:OUT! A Queer Dance party featuring Queen Meabh & Keith Sweaty
DESCRIPTION:
URL:https://wiggleroommke.com/event/out-a-queer-dance-party-featuring-queen-meabh-keith-sweaty/
ATTACH;FMTTYPE=image/jpeg:https://wiggleroommke.com/wp-content/uploads/2025/11/EE55A130-4582-4606-970E-DFA3D333918E.jpeg
END:VEVENT
BEGIN:VEVENT
DTSTART;TZID=America/Chicago:20251110T190000
DTEND;TZID=America/Chicago:20251110T230000
DTSTAMP:20260420T113753
CREATED:20251104T171521Z
LAST-MODIFIED:20251104T171522Z
UID:882-1762801200-1762815600@wiggleroommke.com
SUMMARY:Metal Monday with Chad Medrow
DESCRIPTION:
URL:https://wiggleroommke.com/event/metal-monday-with-chad-medrow-2/
END:VEVENT
BEGIN:VEVENT
DTSTART;TZID=America/Chicago:20251110T190000
DTEND;TZID=America/Chicago:20251110T230000
DTSTAMP:20260420T113753
CREATED:20251104T171615Z
LAST-MODIFIED:20251104T171616Z
UID:883-1762801200-1762815600@wiggleroommke.com
SUMMARY:Metal Monday w/ DJ ACE CROW
DESCRIPTION:
URL:https://wiggleroommke.com/event/metal-monday-w-dj-ace-crow/
END:VEVENT
BEGIN:VEVENT
DTSTART;TZID=America/Chicago:20251112T190000
DTEND;TZID=America/Chicago:20251112T230000
DTSTAMP:20260420T113753
CREATED:20251104T173348Z
LAST-MODIFIED:20251104T173349Z
UID:895-1762974000-1762988400@wiggleroommke.com
SUMMARY:Drifting w/ DJ Marcancion
DESCRIPTION:
URL:https://wiggleroommke.com/event/drifting-w-dj-marcancion/
ATTACH;FMTTYPE=image/jpeg:https://wiggleroommke.com/wp-content/uploads/2025/11/CCC75F26-0CDB-4D31-B87B-5D3EE9624912.jpeg
END:VEVENT
BEGIN:VEVENT
DTSTART;TZID=America/Chicago:20251113T190000
DTEND;TZID=America/Chicago:20251113T230000
DTSTAMP:20260420T113753
CREATED:20251104T170652Z
LAST-MODIFIED:20251113T210700Z
UID:877-1763060400-1763074800@wiggleroommke.com
SUMMARY:SWAMP CITY
DESCRIPTION:Adam Kopp plays Psych\, Garage\, Surf and Indie
URL:https://wiggleroommke.com/event/swamp-city/
ATTACH;FMTTYPE=image/jpeg:https://wiggleroommke.com/wp-content/uploads/2025/11/97118602-A229-4490-9E1E-6DC273C4513D.jpeg
END:VEVENT
BEGIN:VEVENT
DTSTART;TZID=America/Chicago:20251114T160000
DTEND;TZID=America/Chicago:20251114T200000
DTSTAMP:20260420T113753
CREATED:20250904T195216Z
LAST-MODIFIED:20250904T195219Z
UID:800-1763136000-1763150400@wiggleroommke.com
SUMMARY:HONKY TONK HAPPY HOUR  w/ LONG LINE RIDERS
DESCRIPTION:HONKY TONK HAPPY HOUR  w/ LONG LINE RIDERS – 4-8PM – NO COVER – We are super pumped for our monthly Friday happy hour residency with LONG LINE RIDERS  – Classic Country DJs – Band plays at 6:30 to 8pm – FUN
URL:https://wiggleroommke.com/event/honky-tonk-happy-hour-w-long-line-riders-3/
ATTACH;FMTTYPE=image/jpeg:https://wiggleroommke.com/wp-content/uploads/2025/09/Long-NOV.jpg
END:VEVENT
BEGIN:VEVENT
DTSTART;TZID=America/Chicago:20251114T200000
DTEND;TZID=America/Chicago:20251115T000000
DTSTAMP:20260420T113753
CREATED:20251104T170946Z
LAST-MODIFIED:20251113T210618Z
UID:878-1763150400-1763164800@wiggleroommke.com
SUMMARY:Irving Place Records TROLLEY LP Listening Party + Spin
DESCRIPTION:We listen to the brand new TROLLEY LP and then Terry and the crew spin records!
URL:https://wiggleroommke.com/event/irving-place-records-trolley-lp-listening-party-spin/
ATTACH;FMTTYPE=image/jpeg:https://wiggleroommke.com/wp-content/uploads/2025/11/IMG_2387.jpeg
END:VEVENT
BEGIN:VEVENT
DTSTART;TZID=America/Chicago:20251115T200000
DTEND;TZID=America/Chicago:20251116T000000
DTSTAMP:20260420T113753
CREATED:20251104T171107Z
LAST-MODIFIED:20251113T210546Z
UID:879-1763236800-1763251200@wiggleroommke.com
SUMMARY:DJ Jim Hollywood
DESCRIPTION:
URL:https://wiggleroommke.com/event/dj-jim-hollywood/
ATTACH;FMTTYPE=image/jpeg:https://wiggleroommke.com/wp-content/uploads/2025/11/image0.jpeg
END:VEVENT
BEGIN:VEVENT
DTSTART;TZID=America/Chicago:20251116T190000
DTEND;TZID=America/Chicago:20251116T230000
DTSTAMP:20260420T113753
CREATED:20251104T171335Z
LAST-MODIFIED:20251104T171429Z
UID:880-1763319600-1763334000@wiggleroommke.com
SUMMARY:Jazz in the Dark w/ John Dykstra
DESCRIPTION:
URL:https://wiggleroommke.com/event/jazz-in-the-dark-w-john-dykstra/
ATTACH;FMTTYPE=image/jpeg:https://wiggleroommke.com/wp-content/uploads/2025/11/jazz-in-the-dark-11.16-scaled.jpeg
END:VEVENT
BEGIN:VEVENT
DTSTART;TZID=America/Chicago:20251118T190000
DTEND;TZID=America/Chicago:20251118T230000
DTSTAMP:20260420T113753
CREATED:20251104T171646Z
LAST-MODIFIED:20251118T134650Z
UID:884-1763492400-1763506800@wiggleroommke.com
SUMMARY:Warwick of CIRCLE A!!
DESCRIPTION:
URL:https://wiggleroommke.com/event/queen-meabh-2/
END:VEVENT
BEGIN:VEVENT
DTSTART;TZID=America/Chicago:20251119T200000
DTEND;TZID=America/Chicago:20251120T000000
DTSTAMP:20260420T113753
CREATED:20251104T171740Z
LAST-MODIFIED:20251104T171740Z
UID:885-1763582400-1763596800@wiggleroommke.com
SUMMARY:WORLD WEDNESDAY w/ DJ Big Garlic
DESCRIPTION:
URL:https://wiggleroommke.com/event/world-wednesday-w-dj-big-garlic/
END:VEVENT
BEGIN:VEVENT
DTSTART;TZID=America/Chicago:20251120T190000
DTEND;TZID=America/Chicago:20251120T190000
DTSTAMP:20260420T113753
CREATED:20251104T172013Z
LAST-MODIFIED:20251104T172014Z
UID:886-1763665200-1763665200@wiggleroommke.com
SUMMARY:FUNK NIGHT RECORDS Spin
DESCRIPTION:We showcase the Detroit record label FUNK NIGHT RECORDS and play 45s from their vast funky catalog. Not to be missed
URL:https://wiggleroommke.com/event/funk-night-records-spin/
ATTACH;FMTTYPE=image/jpeg:https://wiggleroommke.com/wp-content/uploads/2025/11/FNR-11.20.jpeg
END:VEVENT
BEGIN:VEVENT
DTSTART;TZID=America/Chicago:20251121T200000
DTEND;TZID=America/Chicago:20251121T200000
DTSTAMP:20260420T113753
CREATED:20251104T172336Z
LAST-MODIFIED:20251104T172711Z
UID:888-1763755200-1763755200@wiggleroommke.com
SUMMARY:Dope Folks Records CLASSIC HIP HOP spin
DESCRIPTION:Milwaukee record label Dope Folks Records showcases the best in 80s and 90s golden era\, underground\, Hip Hop Classics!
URL:https://wiggleroommke.com/event/dope-folks-records-classic-hip-hop-spin/
ATTACH;FMTTYPE=image/jpeg:https://wiggleroommke.com/wp-content/uploads/2025/11/IMG_2316.jpeg
END:VEVENT
BEGIN:VEVENT
DTSTART;TZID=America/Chicago:20251122T200000
DTEND;TZID=America/Chicago:20251123T000000
DTSTAMP:20260420T113753
CREATED:20251104T172822Z
LAST-MODIFIED:20251113T210512Z
UID:892-1763841600-1763856000@wiggleroommke.com
SUMMARY:DJ ASHER GRAY
DESCRIPTION:
URL:https://wiggleroommke.com/event/dj-asher-gray-2/
ATTACH;FMTTYPE=image/jpeg:https://wiggleroommke.com/wp-content/uploads/2025/11/A755DFA1-31E3-442F-B226-6D5C0D47AB74.jpeg
END:VEVENT
BEGIN:VEVENT
DTSTART;TZID=America/Chicago:20251123T180000
DTEND;TZID=America/Chicago:20251123T220000
DTSTAMP:20260420T113753
CREATED:20251104T172919Z
LAST-MODIFIED:20251104T172919Z
UID:893-1763920800-1763935200@wiggleroommke.com
SUMMARY:JAZZ FUSION w/ Chad Medrow
DESCRIPTION:
URL:https://wiggleroommke.com/event/jazz-fusion-w-chad-medrow-2/
END:VEVENT
BEGIN:VEVENT
DTSTART;TZID=America/Chicago:20251126T200000
DTEND;TZID=America/Chicago:20251127T000000
DTSTAMP:20260420T113753
CREATED:20251104T173053Z
LAST-MODIFIED:20251104T173054Z
UID:894-1764187200-1764201600@wiggleroommke.com
SUMMARY:THE GET DOWN
DESCRIPTION:Milwaukee’s longest running all vinyl Rare Funk & Soul Dance Party
URL:https://wiggleroommke.com/event/the-get-down/
END:VEVENT
BEGIN:VEVENT
DTSTART;TZID=America/Chicago:20251128T200000
DTEND;TZID=America/Chicago:20251129T000000
DTSTAMP:20260420T113753
CREATED:20251104T173647Z
LAST-MODIFIED:20251104T173648Z
UID:898-1764360000-1764374400@wiggleroommke.com
SUMMARY:Kick out the Jams w/ MOSH WAH
DESCRIPTION:Punk\, Funk\, Soul\, Reggae
URL:https://wiggleroommke.com/event/kick-out-the-jams-w-mosh-wah/
ATTACH;FMTTYPE=image/jpeg:https://wiggleroommke.com/wp-content/uploads/2025/11/9A130DEE-4DF2-42D8-9B56-EC4DA08CDCFE.jpeg
END:VEVENT
END:VCALENDAR