BEGIN:VCALENDAR
VERSION:2.0
PRODID:-//Wiggle Room - ECPv6.15.20//NONSGML v1.0//EN
CALSCALE:GREGORIAN
METHOD:PUBLISH
X-WR-CALNAME:Wiggle Room
X-ORIGINAL-URL:https://wiggleroommke.com
X-WR-CALDESC:Events for Wiggle Room
REFRESH-INTERVAL;VALUE=DURATION:PT1H
X-Robots-Tag:noindex
X-PUBLISHED-TTL:PT1H
BEGIN:VTIMEZONE
TZID:America/Chicago
BEGIN:DAYLIGHT
TZOFFSETFROM:-0600
TZOFFSETTO:-0500
TZNAME:CDT
DTSTART:20240310T080000
END:DAYLIGHT
BEGIN:STANDARD
TZOFFSETFROM:-0500
TZOFFSETTO:-0600
TZNAME:CST
DTSTART:20241103T070000
END:STANDARD
BEGIN:DAYLIGHT
TZOFFSETFROM:-0600
TZOFFSETTO:-0500
TZNAME:CDT
DTSTART:20250309T080000
END:DAYLIGHT
BEGIN:STANDARD
TZOFFSETFROM:-0500
TZOFFSETTO:-0600
TZNAME:CST
DTSTART:20251102T070000
END:STANDARD
BEGIN:DAYLIGHT
TZOFFSETFROM:-0600
TZOFFSETTO:-0500
TZNAME:CDT
DTSTART:20260308T080000
END:DAYLIGHT
BEGIN:STANDARD
TZOFFSETFROM:-0500
TZOFFSETTO:-0600
TZNAME:CST
DTSTART:20261101T070000
END:STANDARD
END:VTIMEZONE
BEGIN:VEVENT
DTSTART;TZID=America/Chicago:20251006T070000
DTEND;TZID=America/Chicago:20251006T230000
DTSTAMP:20260420T185249
CREATED:20250904T185843Z
LAST-MODIFIED:20250904T185843Z
UID:790-1759734000-1759791600@wiggleroommke.com
SUMMARY:Metal Monday with DJ ACE CROW
DESCRIPTION:Casey aka ACE CROW is in the booth playing heavy records for your Monday!
URL:https://wiggleroommke.com/event/metal-monday-with-dj-ace-crow-2/
END:VEVENT
BEGIN:VEVENT
DTSTART;TZID=America/Chicago:20251004T200000
DTEND;TZID=America/Chicago:20251005T000000
DTSTAMP:20260420T185249
CREATED:20250904T191258Z
LAST-MODIFIED:20250904T191259Z
UID:795-1759608000-1759622400@wiggleroommke.com
SUMMARY:Melissa Wagner-Lawler & Chris Roberts
DESCRIPTION:Soul\, Funk\, Disco\, Soft Rock and Yacht vibes
URL:https://wiggleroommke.com/event/melissa-wagner-lawler-chris-roberts/
END:VEVENT
BEGIN:VEVENT
DTSTART;TZID=America/Chicago:20251003T190000
DTEND;TZID=America/Chicago:20251004T000000
DTSTAMP:20260420T185249
CREATED:20250904T190942Z
LAST-MODIFIED:20250904T190942Z
UID:793-1759518000-1759536000@wiggleroommke.com
SUMMARY:BLAX spins the Classics
DESCRIPTION:The God Degree Sessions: BLAX spins the classics.  Soul Hip Hop\, 70’s\, 80’s\, and 90’s gems
URL:https://wiggleroommke.com/event/blax-spins-the-classics/
ATTACH;FMTTYPE=image/png:https://wiggleroommke.com/wp-content/uploads/2025/09/Sessions.png.png
END:VEVENT
BEGIN:VEVENT
DTSTART;TZID=America/Chicago:20251001T070000
DTEND;TZID=America/Chicago:20251001T230000
DTSTAMP:20260420T185249
CREATED:20250904T163717Z
LAST-MODIFIED:20250904T163718Z
UID:785-1759302000-1759359600@wiggleroommke.com
SUMMARY:Rob Sieracki & Ben Cowell (Touch and Go Records)
DESCRIPTION:Rob Sieracki & Ben Cowell (Touch and Go Records) spin a wide array of Punk\, World\, Funk Jazz\,\, Indie\, Psych\, New Wave\, Noise\, and more weirdness.  Not to be missed!
URL:https://wiggleroommke.com/event/rob-sieracki-ben-cowell-touch-and-go-records/
END:VEVENT
BEGIN:VEVENT
DTSTART;TZID=America/Chicago:20250930T190000
DTEND;TZID=America/Chicago:20251001T110000
DTSTAMP:20260420T185249
CREATED:20250904T163152Z
LAST-MODIFIED:20250905T224810Z
UID:784-1759258800-1759316400@wiggleroommke.com
SUMMARY:DJ AiMS
DESCRIPTION:
URL:https://wiggleroommke.com/event/dj-james-hackney-2/
ATTACH;FMTTYPE=image/jpeg:https://wiggleroommke.com/wp-content/uploads/2025/09/IMG_3248.jpeg
END:VEVENT
BEGIN:VEVENT
DTSTART;TZID=America/Chicago:20250929T200000
DTEND;TZID=America/Chicago:20250930T000000
DTSTAMP:20260420T185249
CREATED:20250904T163118Z
LAST-MODIFIED:20250905T181709Z
UID:783-1759176000-1759190400@wiggleroommke.com
SUMMARY:Metal Monday with Chad Medrow
DESCRIPTION:Chad is back spinning Heavy records all night!
URL:https://wiggleroommke.com/event/metal-monday-with-chad-medrow/
ATTACH;FMTTYPE=image/jpeg:https://wiggleroommke.com/wp-content/uploads/2025/09/A9F9702F-E387-4B53-A8CB-33058F84DD85.jpeg
END:VEVENT
BEGIN:VEVENT
DTSTART;TZID=America/Chicago:20250927T200000
DTEND;TZID=America/Chicago:20250927T200000
DTSTAMP:20260420T185249
CREATED:20250625T230838Z
LAST-MODIFIED:20250905T190655Z
UID:619-1759003200-1759003200@wiggleroommke.com
SUMMARY:KASE (Album Listening Party)
DESCRIPTION:KASE (Album Listening release / Listening Party) record spin and Intimate performance!
URL:https://wiggleroommke.com/event/kase-album-listening-party/
ATTACH;FMTTYPE=image/jpeg:https://wiggleroommke.com/wp-content/uploads/2025/06/kase_sets_release_8.5X11-scaled.jpeg
END:VEVENT
BEGIN:VEVENT
DTSTART;TZID=America/Chicago:20250926T200000
DTEND;TZID=America/Chicago:20250927T000000
DTSTAMP:20260420T185249
CREATED:20250731T160509Z
LAST-MODIFIED:20250731T160510Z
UID:735-1758916800-1758931200@wiggleroommke.com
SUMMARY:Caleb Westphal
DESCRIPTION:
URL:https://wiggleroommke.com/event/caleb-westphal/
END:VEVENT
BEGIN:VEVENT
DTSTART;TZID=America/Chicago:20250925T190000
DTEND;TZID=America/Chicago:20250925T230000
DTSTAMP:20260420T185249
CREATED:20250904T163026Z
LAST-MODIFIED:20250911T185100Z
UID:782-1758826800-1758841200@wiggleroommke.com
SUMMARY:Low Rider Oldies with DJ JMMBO
DESCRIPTION:Juan Miguel Martinez is back with another spin of LOW RIDER OLDIES!! This is an end of summer jam!
URL:https://wiggleroommke.com/event/low-rider-oldies-with-dj-jmmbo/
ATTACH;FMTTYPE=image/jpeg:https://wiggleroommke.com/wp-content/uploads/2025/09/C18D0357-AE66-4D90-9CCC-688D3BDA70C0.jpeg
END:VEVENT
BEGIN:VEVENT
DTSTART;TZID=America/Chicago:20250924T190000
DTEND;TZID=America/Chicago:20250924T230000
DTSTAMP:20260420T185249
CREATED:20250906T172144Z
LAST-MODIFIED:20250906T172144Z
UID:812-1758740400-1758754800@wiggleroommke.com
SUMMARY:ZOO BEACH
DESCRIPTION:
URL:https://wiggleroommke.com/event/zoo-beach/
END:VEVENT
BEGIN:VEVENT
DTSTART;TZID=America/Chicago:20250922T080000
DTEND;TZID=America/Chicago:20250923T000000
DTSTAMP:20260420T185249
CREATED:20250904T162741Z
LAST-MODIFIED:20250917T225239Z
UID:780-1758528000-1758585600@wiggleroommke.com
SUMMARY:Gen X Therapy with John Dykstra
DESCRIPTION:90’s alternative spin with John Dykstra!
URL:https://wiggleroommke.com/event/gen-x-therapy-with-john-dykstra-2/
ATTACH;FMTTYPE=image/png:https://wiggleroommke.com/wp-content/uploads/2025/09/gen-x-nick-cave.png
END:VEVENT
BEGIN:VEVENT
DTSTART;TZID=America/Chicago:20250920T200000
DTEND;TZID=America/Chicago:20250921T000000
DTSTAMP:20260420T185249
CREATED:20250904T162314Z
LAST-MODIFIED:20250917T225320Z
UID:779-1758398400-1758412800@wiggleroommke.com
SUMMARY:Bayview Bash Afterparty w/ Queen Meabh and David Arnevik
DESCRIPTION:House\, Disco\, Italo\, and Boogie with Queen Meabh and David Arnevik!
URL:https://wiggleroommke.com/event/bayview-bash-afterparty-w-queen-meabh-and-david-arnevik/
ATTACH;FMTTYPE=image/jpeg:https://wiggleroommke.com/wp-content/uploads/2025/09/AD7690FE-47B2-45B6-AA6D-06BA4A83C1E3.jpeg
END:VEVENT
BEGIN:VEVENT
DTSTART;TZID=America/Chicago:20250919T200000
DTEND;TZID=America/Chicago:20250920T000000
DTSTAMP:20260420T185249
CREATED:20250904T162142Z
LAST-MODIFIED:20250904T162143Z
UID:778-1758312000-1758326400@wiggleroommke.com
SUMMARY:DJ FUZZY LOGIC
DESCRIPTION:DJ Fuzzy Logic throws down a mix bag to make you dance!
URL:https://wiggleroommke.com/event/dj-fuzzy-logic-3/
END:VEVENT
BEGIN:VEVENT
DTSTART;TZID=America/Chicago:20250918T200000
DTEND;TZID=America/Chicago:20250919T000000
DTSTAMP:20260420T185249
CREATED:20250904T161909Z
LAST-MODIFIED:20250904T161910Z
UID:776-1758225600-1758240000@wiggleroommke.com
SUMMARY:Tyler Chicorel's 40th Birthday Party
DESCRIPTION:Come celebrate our very own Tyler Chicorel’s birthday with a special record spin!
URL:https://wiggleroommke.com/event/tyler-chicorels-40th-birthday-party/
END:VEVENT
BEGIN:VEVENT
DTSTART;TZID=America/Chicago:20250917T160000
DTEND;TZID=America/Chicago:20250918T000000
DTSTAMP:20260420T185249
CREATED:20250625T230602Z
LAST-MODIFIED:20250917T142611Z
UID:617-1758124800-1758153600@wiggleroommke.com
SUMMARY:WMSE DAY
DESCRIPTION:We celebrate the best radio station on the planet (91.7 WMSE)  on 9/17 with WMSE DJ’s spinning all day!
URL:https://wiggleroommke.com/event/wmse-day/
ATTACH;FMTTYPE=image/jpeg:https://wiggleroommke.com/wp-content/uploads/2025/06/IMG_1848.jpeg
END:VEVENT
BEGIN:VEVENT
DTSTART;TZID=America/Chicago:20250916T190000
DTEND;TZID=America/Chicago:20250916T230000
DTSTAMP:20260420T185249
CREATED:20250904T161733Z
LAST-MODIFIED:20250904T190551Z
UID:775-1758049200-1758063600@wiggleroommke.com
SUMMARY:Evinspragg 80's DJ Set
DESCRIPTION:All 80’s Obscure Deep Cuts of Postpunk Synth Pop and Industrial.  \n\n\n\nNot to be missed!!!
URL:https://wiggleroommke.com/event/eric-mayer/
ATTACH;FMTTYPE=image/heic:https://wiggleroommke.com/wp-content/uploads/2025/09/Eric-Mayer.jpg
END:VEVENT
BEGIN:VEVENT
DTSTART;TZID=America/Chicago:20250915T190000
DTEND;TZID=America/Chicago:20250915T230000
DTSTAMP:20260420T185249
CREATED:20250913T194105Z
LAST-MODIFIED:20250913T194106Z
UID:819-1757962800-1757977200@wiggleroommke.com
SUMMARY:Metal Monday with BRIAN DAMAGE!
DESCRIPTION:
URL:https://wiggleroommke.com/event/metal-monday-with-brian-damage/
ATTACH;FMTTYPE=image/jpeg:https://wiggleroommke.com/wp-content/uploads/2025/09/8B79F13F-41D3-4740-BC75-FA4169CAC0B9.jpeg
END:VEVENT
BEGIN:VEVENT
DTSTART;TZID=America/Chicago:20250914T180000
DTEND;TZID=America/Chicago:20250914T220000
DTSTAMP:20260420T185249
CREATED:20250904T161323Z
LAST-MODIFIED:20250904T180221Z
UID:774-1757872800-1757887200@wiggleroommke.com
SUMMARY:Jazz Fusion with Chad Medrow
DESCRIPTION:Jazz Fusion records with Chad!
URL:https://wiggleroommke.com/event/jazz-fusion-with-chad-medrow/
ATTACH;FMTTYPE=image/jpeg:https://wiggleroommke.com/wp-content/uploads/2025/09/09CD942F-5A94-4BDD-A777-2110D896E87A.jpeg
END:VEVENT
BEGIN:VEVENT
DTSTART;TZID=America/Chicago:20250913T200000
DTEND;TZID=America/Chicago:20250914T000000
DTSTAMP:20260420T185249
CREATED:20250904T161121Z
LAST-MODIFIED:20250910T182235Z
UID:773-1757793600-1757808000@wiggleroommke.com
SUMMARY:A Touch of Class w/ ASHER GRAY
DESCRIPTION:Asher Gray returns playing House\, Disco\, Boogie\, Italo\, Funk and anything that will make you move
URL:https://wiggleroommke.com/event/a-touch-of-class-w-asher-gray/
ATTACH;FMTTYPE=image/jpeg:https://wiggleroommke.com/wp-content/uploads/2025/09/23898EF5-7F8B-4BAB-8DBC-AA74E75B4AE1.jpeg
END:VEVENT
BEGIN:VEVENT
DTSTART;TZID=America/Chicago:20250912T160000
DTEND;TZID=America/Chicago:20250912T200000
DTSTAMP:20260420T185249
CREATED:20250904T194855Z
LAST-MODIFIED:20250904T194856Z
UID:796-1757692800-1757707200@wiggleroommke.com
SUMMARY:Honky Tonk Happy Hour w/ Long Line Riders
DESCRIPTION:HONKY TONK HAPPY HOUR  w/ LONG LINE RIDERS – 4-8PM – NO COVER – We are super pumped for our monthly Friday happy hour residency with LONG LINE RIDERS  – Classic Country DJs – Band plays at 6:30 to 8pm – FUN
URL:https://wiggleroommke.com/event/honky-tonk-happy-hour-w-long-line-riders/
ATTACH;FMTTYPE=image/jpeg:https://wiggleroommke.com/wp-content/uploads/2025/09/Long-Sept.jpg
END:VEVENT
BEGIN:VEVENT
DTSTART;TZID=America/Chicago:20250911T200000
DTEND;TZID=America/Chicago:20250912T000000
DTSTAMP:20260420T185249
CREATED:20250904T160439Z
LAST-MODIFIED:20250904T160441Z
UID:769-1757620800-1757635200@wiggleroommke.com
SUMMARY:Future Nostalgia
DESCRIPTION:Wes Tank’s Birthday spin!! “Instrumentals\, Environments\, Vocalized Sunlight”
URL:https://wiggleroommke.com/event/future-nostalgia/
ATTACH;FMTTYPE=image/jpeg:https://wiggleroommke.com/wp-content/uploads/2025/09/Fuure.jpg
END:VEVENT
BEGIN:VEVENT
DTSTART;TZID=America/Chicago:20250911T170000
DTEND;TZID=America/Chicago:20250911T200000
DTSTAMP:20260420T185249
CREATED:20250904T155428Z
LAST-MODIFIED:20250904T160123Z
UID:767-1757610000-1757620800@wiggleroommke.com
SUMMARY:Sarah Filzen spins DURAN DURAN
DESCRIPTION:Sarah Filzen aka one of the biggest Duran Duran fans we know\, spins DURAN DURAN!!!  Rarities\, B-sides\, Live\, Remixes\, + side projects past and present!
URL:https://wiggleroommke.com/event/sarah-filzen-spins-duran-duran/
ATTACH;FMTTYPE=image/jpeg:https://wiggleroommke.com/wp-content/uploads/2025/09/Duran.jpg
END:VEVENT
BEGIN:VEVENT
DTSTART;TZID=America/Chicago:20250910T190000
DTEND;TZID=America/Chicago:20250910T230000
DTSTAMP:20260420T185249
CREATED:20250904T162038Z
LAST-MODIFIED:20250905T224927Z
UID:777-1757530800-1757545200@wiggleroommke.com
SUMMARY:DJ Marcancion
DESCRIPTION:DJ Marcancion plays Smooth Grooves\, Jazz\, Synth\, Fusion\, Pop\, Boogie and Funk
URL:https://wiggleroommke.com/event/dj-marcancion/
ATTACH;FMTTYPE=image/jpeg:https://wiggleroommke.com/wp-content/uploads/2025/09/71C7BF19-8C26-4FB9-A097-BDE1BF05AB8A.jpeg
END:VEVENT
BEGIN:VEVENT
DTSTART;TZID=America/Chicago:20250909T200000
DTEND;TZID=America/Chicago:20250910T000000
DTSTAMP:20260420T185249
CREATED:20250904T154900Z
LAST-MODIFIED:20250904T154901Z
UID:766-1757448000-1757462400@wiggleroommke.com
SUMMARY:Olivia Salazar
DESCRIPTION:DJ Olivia Salazar will be spinning punk\, garage\, and rock n roll records!!!
URL:https://wiggleroommke.com/event/olivia-salazar/
END:VEVENT
BEGIN:VEVENT
DTSTART;TZID=America/Chicago:20250908T200000
DTEND;TZID=America/Chicago:20250909T000000
DTSTAMP:20260420T185249
CREATED:20250904T222759Z
LAST-MODIFIED:20250904T222800Z
UID:805-1757361600-1757376000@wiggleroommke.com
SUMMARY:John Dykstra
DESCRIPTION:John is jumping in the booth to span genres on a Monday night playing songs from his personal collection and the house library!
URL:https://wiggleroommke.com/event/john-dykstra/
ATTACH;FMTTYPE=image/png:https://wiggleroommke.com/wp-content/uploads/2025/09/dykstra-plays-everything.png
END:VEVENT
BEGIN:VEVENT
DTSTART;TZID=America/Chicago:20250906T200000
DTEND;TZID=America/Chicago:20250907T000000
DTSTAMP:20260420T185249
CREATED:20250904T154713Z
LAST-MODIFIED:20250904T154714Z
UID:764-1757188800-1757203200@wiggleroommke.com
SUMMARY:Mr. Automatic
DESCRIPTION:Mr. Automatic is back playing Disco\, Italo\, Boogie\, Indie\, and Psych
URL:https://wiggleroommke.com/event/mr-automatic/
ATTACH;FMTTYPE=image/jpeg:https://wiggleroommke.com/wp-content/uploads/2025/09/Mr-Automatic.jpg
END:VEVENT
BEGIN:VEVENT
DTSTART;TZID=America/Chicago:20250905T200000
DTEND;TZID=America/Chicago:20250906T000000
DTSTAMP:20260420T185249
CREATED:20250904T154401Z
LAST-MODIFIED:20250904T154402Z
UID:762-1757102400-1757116800@wiggleroommke.com
SUMMARY:"Return of the Records"
DESCRIPTION:Return of the Records Vinyl Jam Session with scene veteran DJ’s: DJ CONTACT\, WHY B\, DJ J Bahr\, DJ Seoul K and Darth Fader
URL:https://wiggleroommke.com/event/return-of-the-records/
ATTACH;FMTTYPE=image/jpeg:https://wiggleroommke.com/wp-content/uploads/2025/07/5470317260128926745.jpeg
END:VEVENT
BEGIN:VEVENT
DTSTART;TZID=America/Chicago:20250830T160000
DTEND;TZID=America/Chicago:20250831T020000
DTSTAMP:20260420T185249
CREATED:20250725T201355Z
LAST-MODIFIED:20250725T201356Z
UID:690-1756569600-1756605600@wiggleroommke.com
SUMMARY:John Kuester Celebration of Life
DESCRIPTION:We pay our respects to our friend John Kuester aka Kid Millions in a Celebration of life starting at 4pm. We will have DJs all day. Come and pay your respects and celebrate our friend John
URL:https://wiggleroommke.com/event/john-kuester-celebration-of-life/
END:VEVENT
BEGIN:VEVENT
DTSTART;TZID=America/Chicago:20250829T200000
DTEND;TZID=America/Chicago:20250830T000000
DTSTAMP:20260420T185249
CREATED:20250725T201034Z
LAST-MODIFIED:20250725T201035Z
UID:689-1756497600-1756512000@wiggleroommke.com
SUMMARY:Dope Folks Records 15th Anniversary Spin
DESCRIPTION:Celebrate 15 years of Dope Folks Records with a Rare Underground Hip Hop spin from the Golden Age of Rap. Christreater and Friends will be spinning and they will also pay tribute to John Kuester (Chris’s partner in Dope Folks who passed away 7/7/25)
URL:https://wiggleroommke.com/event/dope-folks-records-15th-anniversary-spin-2/
END:VEVENT
BEGIN:VEVENT
DTSTART;TZID=America/Chicago:20250827T190000
DTEND;TZID=America/Chicago:20250827T230000
DTSTAMP:20260420T185249
CREATED:20250701T191931Z
LAST-MODIFIED:20250701T191931Z
UID:641-1756321200-1756335600@wiggleroommke.com
SUMMARY:Brian Kirk (Lilliput Records)
DESCRIPTION:
URL:https://wiggleroommke.com/event/brian-kirk-lilliput-records/
END:VEVENT
END:VCALENDAR