BEGIN:VCALENDAR
VERSION:2.0
PRODID:-//Wiggle Room - ECPv6.15.20//NONSGML v1.0//EN
CALSCALE:GREGORIAN
METHOD:PUBLISH
X-WR-CALNAME:Wiggle Room
X-ORIGINAL-URL:https://wiggleroommke.com
X-WR-CALDESC:Events for Wiggle Room
REFRESH-INTERVAL;VALUE=DURATION:PT1H
X-Robots-Tag:noindex
X-PUBLISHED-TTL:PT1H
BEGIN:VTIMEZONE
TZID:America/Chicago
BEGIN:DAYLIGHT
TZOFFSETFROM:-0600
TZOFFSETTO:-0500
TZNAME:CDT
DTSTART:20240310T080000
END:DAYLIGHT
BEGIN:STANDARD
TZOFFSETFROM:-0500
TZOFFSETTO:-0600
TZNAME:CST
DTSTART:20241103T070000
END:STANDARD
BEGIN:DAYLIGHT
TZOFFSETFROM:-0600
TZOFFSETTO:-0500
TZNAME:CDT
DTSTART:20250309T080000
END:DAYLIGHT
BEGIN:STANDARD
TZOFFSETFROM:-0500
TZOFFSETTO:-0600
TZNAME:CST
DTSTART:20251102T070000
END:STANDARD
BEGIN:DAYLIGHT
TZOFFSETFROM:-0600
TZOFFSETTO:-0500
TZNAME:CDT
DTSTART:20260308T080000
END:DAYLIGHT
BEGIN:STANDARD
TZOFFSETFROM:-0500
TZOFFSETTO:-0600
TZNAME:CST
DTSTART:20261101T070000
END:STANDARD
END:VTIMEZONE
BEGIN:VEVENT
DTSTART;TZID=America/Chicago:20250703T190000
DTEND;TZID=America/Chicago:20250703T230000
DTSTAMP:20260423T082639
CREATED:20250625T173727Z
LAST-MODIFIED:20250626T022243Z
UID:577-1751569200-1751583600@wiggleroommke.com
SUMMARY:Beach Boys Night!
DESCRIPTION:Jeff Winkowski & Terry of Irving Place Records are celebrating the life of Brian Wilson with an all Beach Boys spin! 7pm
URL:https://wiggleroommke.com/event/beach-boys-night/
END:VEVENT
BEGIN:VEVENT
DTSTART;TZID=America/Chicago:20250702T190000
DTEND;TZID=America/Chicago:20250702T230000
DTSTAMP:20260423T082639
CREATED:20250625T173432Z
LAST-MODIFIED:20250626T053047Z
UID:576-1751482800-1751497200@wiggleroommke.com
SUMMARY:ZIPGUN BOOGIE'S PERFECT WORLD
DESCRIPTION:DJ Zipgun Boogie’s Perfect World! Powerpop all night!
URL:https://wiggleroommke.com/event/dj-zipgun-boogie/
ATTACH;FMTTYPE=image/jpeg:https://wiggleroommke.com/wp-content/uploads/2025/06/A39C273C-06F8-41C9-B648-7505E5415F1F.jpg
END:VEVENT
BEGIN:VEVENT
DTSTART;TZID=America/Chicago:20250630T190000
DTEND;TZID=America/Chicago:20250630T230000
DTSTAMP:20260423T082639
CREATED:20250625T173144Z
LAST-MODIFIED:20250626T022157Z
UID:575-1751310000-1751324400@wiggleroommke.com
SUMMARY:Metal Monday w/ the Punk Metal Drinkers
DESCRIPTION:DJ’s Chris & Jesse playing Metal\, Punk and Oi records
URL:https://wiggleroommke.com/event/metal-monday-w-the-punk-metal-drinkers/
END:VEVENT
BEGIN:VEVENT
DTSTART;TZID=America/Chicago:20250629T180000
DTEND;TZID=America/Chicago:20250629T220000
DTSTAMP:20260423T082639
CREATED:20250625T172700Z
LAST-MODIFIED:20250625T223117Z
UID:573-1751220000-1751234400@wiggleroommke.com
SUMMARY:Gen X Therapy w/ Dykstra
DESCRIPTION:
URL:https://wiggleroommke.com/event/gen-x-therapy-w-dykstra/
ATTACH;FMTTYPE=image/jpeg:https://wiggleroommke.com/wp-content/uploads/2025/06/Unknown-2.jpg
END:VEVENT
BEGIN:VEVENT
DTSTART;TZID=America/Chicago:20250628T200000
DTEND;TZID=America/Chicago:20250629T020000
DTSTAMP:20260423T082639
CREATED:20250625T171539Z
LAST-MODIFIED:20250626T022110Z
UID:568-1751140800-1751162400@wiggleroommke.com
SUMMARY:DJs Heebz & Trickknee's Obscure 70's Jams!
DESCRIPTION:DJ’s Jon Heebz and Todd Trickknee will be spinning obscure 70’s jams! Punk\, Funk\, Disco\, Glam\, Pop\, and Rock! 8pm – Late
URL:https://wiggleroommke.com/event/djs-heebz-trickknees-obscure-70s-jams/
ATTACH;FMTTYPE=image/jpeg:https://wiggleroommke.com/wp-content/uploads/2025/06/IMG_1053.jpg
END:VEVENT
BEGIN:VEVENT
DTSTART;TZID=America/Chicago:20250627T200000
DTEND;TZID=America/Chicago:20250628T020000
DTSTAMP:20260423T082639
CREATED:20250625T172221Z
LAST-MODIFIED:20250626T022010Z
UID:572-1751054400-1751076000@wiggleroommke.com
SUMMARY:Bonnie's Birthday Party w/ DJ Kelly!
DESCRIPTION:Friday Night we welcome DJ KELLY from WMSE to the booth.  She will be spinning 80’s Ladies\, Boogie\, Electro\, Disco\, Dance & R&B in celebration of our good friend BONNIE DRINKARD’S BIRTHDAY!!! Come hang out\, all are welcome (21+) 8pm-Late
URL:https://wiggleroommke.com/event/bonnies-birthday-party-w-dj-kelly/
ATTACH;FMTTYPE=image/png:https://wiggleroommke.com/wp-content/uploads/2025/06/Wiggle-Room.png
END:VEVENT
BEGIN:VEVENT
DTSTART;TZID=America/Chicago:20250626T160000
DTEND;TZID=America/Chicago:20250627T020000
DTSTAMP:20260423T082639
CREATED:20250625T223741Z
LAST-MODIFIED:20250626T205845Z
UID:594-1750953600-1750989600@wiggleroommke.com
SUMMARY:CLOSED FOR DEVO
DESCRIPTION:We will be closed because we all want to see DEVO play at Summerfest. You should too. See you there!
URL:https://wiggleroommke.com/event/closed-for-devo/
ATTACH;FMTTYPE=image/jpeg:https://wiggleroommke.com/wp-content/uploads/2025/06/IMG_1057.jpg
END:VEVENT
BEGIN:VEVENT
DTSTART;TZID=America/Chicago:20250625T190000
DTEND;TZID=America/Chicago:20250625T223000
DTSTAMP:20260423T082639
CREATED:20250625T223441Z
LAST-MODIFIED:20250626T012551Z
UID:592-1750878000-1750890600@wiggleroommke.com
SUMMARY:Carlyle & Steve Killer DJ set
DESCRIPTION:Carlyle & Steve go toe to toe spinning records from a wide variety of genres
URL:https://wiggleroommke.com/event/carlyle-steve-killer-dj-set/
ATTACH;FMTTYPE=image/jpeg:https://wiggleroommke.com/wp-content/uploads/2025/06/9F177383-CA45-48AA-9829-0D875F5F586F.jpg
END:VEVENT
END:VCALENDAR