BEGIN:VCALENDAR
VERSION:2.0
PRODID:-//Wiggle Room - ECPv6.15.20//NONSGML v1.0//EN
CALSCALE:GREGORIAN
METHOD:PUBLISH
X-WR-CALNAME:Wiggle Room
X-ORIGINAL-URL:https://wiggleroommke.com
X-WR-CALDESC:Events for Wiggle Room
REFRESH-INTERVAL;VALUE=DURATION:PT1H
X-Robots-Tag:noindex
X-PUBLISHED-TTL:PT1H
BEGIN:VTIMEZONE
TZID:America/Chicago
BEGIN:DAYLIGHT
TZOFFSETFROM:-0600
TZOFFSETTO:-0500
TZNAME:CDT
DTSTART:20240310T080000
END:DAYLIGHT
BEGIN:STANDARD
TZOFFSETFROM:-0500
TZOFFSETTO:-0600
TZNAME:CST
DTSTART:20241103T070000
END:STANDARD
BEGIN:DAYLIGHT
TZOFFSETFROM:-0600
TZOFFSETTO:-0500
TZNAME:CDT
DTSTART:20250309T080000
END:DAYLIGHT
BEGIN:STANDARD
TZOFFSETFROM:-0500
TZOFFSETTO:-0600
TZNAME:CST
DTSTART:20251102T070000
END:STANDARD
BEGIN:DAYLIGHT
TZOFFSETFROM:-0600
TZOFFSETTO:-0500
TZNAME:CDT
DTSTART:20260308T080000
END:DAYLIGHT
BEGIN:STANDARD
TZOFFSETFROM:-0500
TZOFFSETTO:-0600
TZNAME:CST
DTSTART:20261101T070000
END:STANDARD
END:VTIMEZONE
BEGIN:VEVENT
DTSTART;TZID=America/Chicago:20250802T200000
DTEND;TZID=America/Chicago:20250803T000000
DTSTAMP:20260421T053601
CREATED:20250625T225450Z
LAST-MODIFIED:20250725T195210Z
UID:610-1754164800-1754179200@wiggleroommke.com
SUMMARY:"Leo Heat" w/ Rebecca Ditmeyer
DESCRIPTION:“Leo Heat” summer spin for Rebecca Ditmeyer’s 52nd Birthday!!!!
URL:https://wiggleroommke.com/event/leo-heat-w-rebecca-ditmeyer/
ATTACH;FMTTYPE=image/jpeg:https://wiggleroommke.com/wp-content/uploads/2025/06/att.M2GU-dOW1C5CUXOBuUutk0-2Dp1vxU7PDJiXjlc5uA0.jpeg
END:VEVENT
BEGIN:VEVENT
DTSTART;TZID=America/Chicago:20250801T200000
DTEND;TZID=America/Chicago:20250802T000000
DTSTAMP:20260421T053601
CREATED:20250625T225349Z
LAST-MODIFIED:20250723T214234Z
UID:609-1754078400-1754092800@wiggleroommke.com
SUMMARY:DJ Jean Le Duke (Madison)
DESCRIPTION:Jean Le Duke plays Hip Hop Classics\, Dance\, and anything that bumps!
URL:https://wiggleroommke.com/event/dj-jean-le-duke-madison/
END:VEVENT
BEGIN:VEVENT
DTSTART;TZID=America/Chicago:20250731T190000
DTEND;TZID=America/Chicago:20250731T230000
DTSTAMP:20260421T053601
CREATED:20250625T225241Z
LAST-MODIFIED:20250625T225242Z
UID:608-1753988400-1754002800@wiggleroommke.com
SUMMARY:DJ DH "Global Grooves"
DESCRIPTION:DJ DH from Madison\, WI spins GLOBAL GROOVES
URL:https://wiggleroommke.com/event/dj-dh-global-grooves/
END:VEVENT
BEGIN:VEVENT
DTSTART;TZID=America/Chicago:20250730T190000
DTEND;TZID=America/Chicago:20250730T230000
DTSTAMP:20260421T053601
CREATED:20250625T225135Z
LAST-MODIFIED:20250626T022734Z
UID:607-1753902000-1753916400@wiggleroommke.com
SUMMARY:DJ James Hackney
DESCRIPTION:
URL:https://wiggleroommke.com/event/dj-james-hackney/
END:VEVENT
BEGIN:VEVENT
DTSTART;TZID=America/Chicago:20250727T180000
DTEND;TZID=America/Chicago:20250727T220000
DTSTAMP:20260421T053601
CREATED:20250727T185956Z
LAST-MODIFIED:20250727T185957Z
UID:704-1753639200-1753653600@wiggleroommke.com
SUMMARY:Tarik Moody
DESCRIPTION:Tarik Moody celebrates his birthday and 20 years of Rhythm Lab Radio for a special Sunday spin!
URL:https://wiggleroommke.com/event/tarik-moody/
ATTACH;FMTTYPE=image/jpeg:https://wiggleroommke.com/wp-content/uploads/2025/07/IMG_1385.jpeg
END:VEVENT
BEGIN:VEVENT
DTSTART;TZID=America/Chicago:20250726T200000
DTEND;TZID=America/Chicago:20250727T000000
DTSTAMP:20260421T053601
CREATED:20250625T225100Z
LAST-MODIFIED:20250725T201525Z
UID:606-1753560000-1753574400@wiggleroommke.com
SUMMARY:DJ GREG D (Chicago)
DESCRIPTION:DJ GREG D from Chicago jumps behind the booth!
URL:https://wiggleroommke.com/event/dj-greg-d-chicago/
ATTACH;FMTTYPE=image/jpeg:https://wiggleroommke.com/wp-content/uploads/2025/06/IMG_1351.jpeg
END:VEVENT
BEGIN:VEVENT
DTSTART;TZID=America/Chicago:20250725T200000
DTEND;TZID=America/Chicago:20250726T000000
DTSTAMP:20260421T053601
CREATED:20250625T225001Z
LAST-MODIFIED:20250725T201617Z
UID:605-1753473600-1753488000@wiggleroommke.com
SUMMARY:DJ Grant Pieters (Madison)
DESCRIPTION:City Pop and Yacht Soul from our friends from Madison!
URL:https://wiggleroommke.com/event/dj-grant-pieters-madison/
ATTACH;FMTTYPE=image/jpeg:https://wiggleroommke.com/wp-content/uploads/2025/06/FFDBC10C-331F-475C-B4AF-907CCB40FBDA.jpeg
END:VEVENT
BEGIN:VEVENT
DTSTART;TZID=America/Chicago:20250724T190000
DTEND;TZID=America/Chicago:20250724T230000
DTSTAMP:20260421T053601
CREATED:20250625T224903Z
LAST-MODIFIED:20250626T022658Z
UID:604-1753383600-1753398000@wiggleroommke.com
SUMMARY:DJ La La Frou Frou
DESCRIPTION:DJ LA LA FROU FROU aka Penelope Bowles spins indie\, dance\, and alternative!
URL:https://wiggleroommke.com/event/dj-la-la-frou-frou/
END:VEVENT
BEGIN:VEVENT
DTSTART;TZID=America/Chicago:20250723T220000
DTEND;TZID=America/Chicago:20250724T020000
DTSTAMP:20260421T053601
CREATED:20250625T224732Z
LAST-MODIFIED:20250625T224733Z
UID:603-1753308000-1753322400@wiggleroommke.com
SUMMARY:Freddy DeBoe Record Spin!
DESCRIPTION:Freddy DeBoe (Saxophonist for Lee Fields\, Charles Bradley\, The Extraordinaires\, The Dap Kings\, and Daptone Records) will be spinning records!
URL:https://wiggleroommke.com/event/freddy-deboe-record-spin/
END:VEVENT
BEGIN:VEVENT
DTSTART;TZID=America/Chicago:20250723T180000
DTEND;TZID=America/Chicago:20250723T220000
DTSTAMP:20260421T053601
CREATED:20250625T224447Z
LAST-MODIFIED:20250625T224448Z
UID:602-1753293600-1753308000@wiggleroommke.com
SUMMARY:Blake Smith (Fig Dish)
DESCRIPTION:Blake Smith of FIG DISH will be spinning records!
URL:https://wiggleroommke.com/event/blake-smith-fig-dish/
END:VEVENT
BEGIN:VEVENT
DTSTART;TZID=America/Chicago:20250721T190000
DTEND;TZID=America/Chicago:20250721T230000
DTSTAMP:20260421T053601
CREATED:20250625T224224Z
LAST-MODIFIED:20250629T183738Z
UID:601-1753124400-1753138800@wiggleroommke.com
SUMMARY:METAL MONDAY w/ CASEY GROH
DESCRIPTION:
URL:https://wiggleroommke.com/event/metal-monday-w-casey-groh/
ATTACH;FMTTYPE=image/jpeg:https://wiggleroommke.com/wp-content/uploads/2025/06/IMG_1117.jpeg
END:VEVENT
BEGIN:VEVENT
DTSTART;TZID=America/Chicago:20250720T180000
DTEND;TZID=America/Chicago:20250720T220000
DTSTAMP:20260421T053601
CREATED:20250701T191740Z
LAST-MODIFIED:20250701T191741Z
UID:640-1753034400-1753048800@wiggleroommke.com
SUMMARY:Jazz Fusion w/ Chad Medrow
DESCRIPTION:
URL:https://wiggleroommke.com/event/jazz-fusion-w-chad-medrow/
END:VEVENT
BEGIN:VEVENT
DTSTART;TZID=America/Chicago:20250719T200000
DTEND;TZID=America/Chicago:20250720T020000
DTSTAMP:20260421T053601
CREATED:20250625T224143Z
LAST-MODIFIED:20250626T022602Z
UID:600-1752955200-1752976800@wiggleroommke.com
SUMMARY:DJ ASHER GRAY
DESCRIPTION:
URL:https://wiggleroommke.com/event/dj-asher-gray/
END:VEVENT
BEGIN:VEVENT
DTSTART;TZID=America/Chicago:20250718T200000
DTEND;TZID=America/Chicago:20250719T000000
DTSTAMP:20260421T053601
CREATED:20250625T224054Z
LAST-MODIFIED:20250626T022542Z
UID:599-1752868800-1752883200@wiggleroommke.com
SUMMARY:DJ FUZZY LOGIC
DESCRIPTION:
URL:https://wiggleroommke.com/event/dj-fuzzy-logic/
END:VEVENT
BEGIN:VEVENT
DTSTART;TZID=America/Chicago:20250717T190000
DTEND;TZID=America/Chicago:20250717T230000
DTSTAMP:20260421T053601
CREATED:20250625T224018Z
LAST-MODIFIED:20250626T022521Z
UID:598-1752778800-1752793200@wiggleroommke.com
SUMMARY:Srini & Hollywood
DESCRIPTION:
URL:https://wiggleroommke.com/event/srini-hollywood/
END:VEVENT
BEGIN:VEVENT
DTSTART;TZID=America/Chicago:20250716T190000
DTEND;TZID=America/Chicago:20250716T230000
DTSTAMP:20260421T053601
CREATED:20250629T184333Z
LAST-MODIFIED:20250629T184333Z
UID:633-1752692400-1752706800@wiggleroommke.com
SUMMARY:HUSKER DU
DESCRIPTION:Rachael & James Za from IRON PIZZA spin all HUSKER DU records!
URL:https://wiggleroommke.com/event/husker-du/
END:VEVENT
BEGIN:VEVENT
DTSTART;TZID=America/Chicago:20250715T190000
DTEND;TZID=America/Chicago:20250715T230000
DTSTAMP:20260421T053601
CREATED:20250701T190950Z
LAST-MODIFIED:20250701T190950Z
UID:637-1752606000-1752620400@wiggleroommke.com
SUMMARY:The Venture Bros
DESCRIPTION:The Venture Bros (Robert and Andrew) play indie\, alternative\, dance\, psych\, pop and everything in between
URL:https://wiggleroommke.com/event/the-venture-bros/
END:VEVENT
BEGIN:VEVENT
DTSTART;TZID=America/Chicago:20250714T190000
DTEND;TZID=America/Chicago:20250714T230000
DTSTAMP:20260421T053601
CREATED:20250701T191616Z
LAST-MODIFIED:20250702T164649Z
UID:639-1752519600-1752534000@wiggleroommke.com
SUMMARY:METAL MONDAY w/ Chad Medrow
DESCRIPTION:
URL:https://wiggleroommke.com/event/chad-matzen/
ATTACH;FMTTYPE=image/jpeg:https://wiggleroommke.com/wp-content/uploads/2025/07/IMG_1146.jpeg
END:VEVENT
BEGIN:VEVENT
DTSTART;TZID=America/Chicago:20250713T190000
DTEND;TZID=America/Chicago:20250713T230000
DTSTAMP:20260421T053601
CREATED:20250709T203249Z
LAST-MODIFIED:20250709T203249Z
UID:669-1752433200-1752447600@wiggleroommke.com
SUMMARY:Jazz in the Dark
DESCRIPTION:Funky accessible jazz with John Dykstra
URL:https://wiggleroommke.com/event/jazz-in-the-dark/
CATEGORIES:Jazz
ATTACH;FMTTYPE=image/jpeg:https://wiggleroommke.com/wp-content/uploads/2025/07/jazz-in-the-dark-scaled.jpg
END:VEVENT
BEGIN:VEVENT
DTSTART;TZID=America/Chicago:20250712T200000
DTEND;TZID=America/Chicago:20250713T000000
DTSTAMP:20260421T053601
CREATED:20250625T223941Z
LAST-MODIFIED:20250708T032359Z
UID:597-1752350400-1752364800@wiggleroommke.com
SUMMARY:Jon Heebz Spin
DESCRIPTION:
URL:https://wiggleroommke.com/event/jon-heebz-family-spin/
ATTACH;FMTTYPE=image/jpeg:https://wiggleroommke.com/wp-content/uploads/2025/06/282022C3-2A31-45D6-A443-699D29B04E82.jpeg
END:VEVENT
BEGIN:VEVENT
DTSTART;TZID=America/Chicago:20250711T200000
DTEND;TZID=America/Chicago:20250712T000000
DTSTAMP:20260421T053601
CREATED:20250625T223906Z
LAST-MODIFIED:20250708T032336Z
UID:596-1752264000-1752278400@wiggleroommke.com
SUMMARY:Kid Millions & The Vinyl Department
DESCRIPTION:Kid Millions is teaming up with THE VINYL DEPARTMENT to play Funk\, Soul\, Hip Hop\, and Dance records
URL:https://wiggleroommke.com/event/kid-millions-the-vinyl-department/
ATTACH;FMTTYPE=image/jpeg:https://wiggleroommke.com/wp-content/uploads/2025/06/IMG_1190.jpeg
END:VEVENT
BEGIN:VEVENT
DTSTART;TZID=America/Chicago:20250711T160000
DTEND;TZID=America/Chicago:20250711T200000
DTSTAMP:20260421T053601
CREATED:20250709T175445Z
LAST-MODIFIED:20250709T175446Z
UID:663-1752249600-1752264000@wiggleroommke.com
SUMMARY:Honky Tonk Happy Hour with Long Line Riders
DESCRIPTION:FRIDAY! HONKY TONK HAPPY HOUR w/ LONG LINE RIDERS – 4-8PM – NO COVER – We are super pumped for our monthly Friday happy hour residency with @long_line_riders – Classic Country DJs – Band plays at 6:30 to 8pm – FUN
URL:https://wiggleroommke.com/event/honky-tonk-happy-hour-with-long-line-riders-2/
CATEGORIES:Live Country Band
ATTACH;FMTTYPE=image/jpeg:https://wiggleroommke.com/wp-content/uploads/2025/07/IMG_1213.jpeg
END:VEVENT
BEGIN:VEVENT
DTSTART;TZID=America/Chicago:20250710T190000
DTEND;TZID=America/Chicago:20250710T230000
DTSTAMP:20260421T053601
CREATED:20250625T174909Z
LAST-MODIFIED:20250709T194407Z
UID:581-1752174000-1752188400@wiggleroommke.com
SUMMARY:DJ Dick Satan
DESCRIPTION:DJ Dick Satan (Dick Satan Trio) will be spinning
URL:https://wiggleroommke.com/event/dj-dick-satan/
ATTACH;FMTTYPE=image/jpeg:https://wiggleroommke.com/wp-content/uploads/2025/06/dj-dick-satan.jpg
END:VEVENT
BEGIN:VEVENT
DTSTART;TZID=America/Chicago:20250709T190000
DTEND;TZID=America/Chicago:20250709T230000
DTSTAMP:20260421T053601
CREATED:20250709T180019Z
LAST-MODIFIED:20250709T180019Z
UID:664-1752087600-1752102000@wiggleroommke.com
SUMMARY:La Noche en Milwaukee! DJs Loly Roots & Adrian is Hungry (Brooklyn\, NY)
DESCRIPTION:DJs Loly Roots and Adrian is Hungry (Brooklyn NY) are passing through Milwaukee and we are lucky tspin Out There Sounds\, Caribbean\, Latin\, African
URL:https://wiggleroommke.com/event/la-noche-en-milwaukee-djs-loly-roots-adrian-is-hungry-brooklyn-ny-2/
CATEGORIES:World Music
ATTACH;FMTTYPE=image/jpeg:https://wiggleroommke.com/wp-content/uploads/2025/07/IMG_0662.jpeg
END:VEVENT
BEGIN:VEVENT
DTSTART;TZID=America/Chicago:20250708T190000
DTEND;TZID=America/Chicago:20250708T230000
DTSTAMP:20260421T053601
CREATED:20250704T164357Z
LAST-MODIFIED:20250708T032251Z
UID:649-1752001200-1752015600@wiggleroommke.com
SUMMARY:Brain Damage's Psych Noir Grooves
DESCRIPTION:Spinning Groove heavy\, electronic\, and trippy records!
URL:https://wiggleroommke.com/event/brain-damages-psych-noir-grooves/
ATTACH;FMTTYPE=image/jpeg:https://wiggleroommke.com/wp-content/uploads/2025/07/D2F5C37E-1033-4CFA-A98E-65CB62A7BEF9.jpeg
END:VEVENT
BEGIN:VEVENT
DTSTART;TZID=America/Chicago:20250707T190000
DTEND;TZID=America/Chicago:20250707T230000
DTSTAMP:20260421T053601
CREATED:20250625T174709Z
LAST-MODIFIED:20250703T003732Z
UID:580-1751914800-1751929200@wiggleroommke.com
SUMMARY:Metal Monday w/ Mike Gamm & Kevin Herwig of FORCE
DESCRIPTION:Mike Gamm & Kevin Herwig of the band FORCE spins heavy records  7-Late
URL:https://wiggleroommke.com/event/metal-monday-w-mike-gamm/
ATTACH;FMTTYPE=image/jpeg:https://wiggleroommke.com/wp-content/uploads/2025/06/IMG_1153.jpeg
END:VEVENT
BEGIN:VEVENT
DTSTART;TZID=America/Chicago:20250705T200000
DTEND;TZID=America/Chicago:20250706T000000
DTSTAMP:20260421T053601
CREATED:20250625T174600Z
LAST-MODIFIED:20250630T190856Z
UID:579-1751745600-1751760000@wiggleroommke.com
SUMMARY:Get On Up Soul Club!
DESCRIPTION:Andy Noble (The Get Down\, We Buy Records)\, Debbie Benjamin-Koller (Heart of Chicago Soul Club) spinning rare Northern Soul 45’s!
URL:https://wiggleroommke.com/event/get-on-up-soul-club/
ATTACH;FMTTYPE=image/jpeg:https://wiggleroommke.com/wp-content/uploads/2025/06/IMG_1134.jpeg
END:VEVENT
BEGIN:VEVENT
DTSTART;TZID=America/Chicago:20250704T160000
DTEND;TZID=America/Chicago:20250705T020000
DTSTAMP:20260421T053601
CREATED:20250625T174313Z
LAST-MODIFIED:20250626T022315Z
UID:578-1751644800-1751680800@wiggleroommke.com
SUMMARY:CLOSED FOR THE 4TH
DESCRIPTION:
URL:https://wiggleroommke.com/event/closed-for-the-4th/
END:VEVENT
BEGIN:VEVENT
DTSTART;TZID=America/Chicago:20250703T190000
DTEND;TZID=America/Chicago:20250703T230000
DTSTAMP:20260421T053601
CREATED:20250625T173727Z
LAST-MODIFIED:20250626T022243Z
UID:577-1751569200-1751583600@wiggleroommke.com
SUMMARY:Beach Boys Night!
DESCRIPTION:Jeff Winkowski & Terry of Irving Place Records are celebrating the life of Brian Wilson with an all Beach Boys spin! 7pm
URL:https://wiggleroommke.com/event/beach-boys-night/
END:VEVENT
BEGIN:VEVENT
DTSTART;TZID=America/Chicago:20250702T190000
DTEND;TZID=America/Chicago:20250702T230000
DTSTAMP:20260421T053601
CREATED:20250625T173432Z
LAST-MODIFIED:20250626T053047Z
UID:576-1751482800-1751497200@wiggleroommke.com
SUMMARY:ZIPGUN BOOGIE'S PERFECT WORLD
DESCRIPTION:DJ Zipgun Boogie’s Perfect World! Powerpop all night!
URL:https://wiggleroommke.com/event/dj-zipgun-boogie/
ATTACH;FMTTYPE=image/jpeg:https://wiggleroommke.com/wp-content/uploads/2025/06/A39C273C-06F8-41C9-B648-7505E5415F1F.jpg
END:VEVENT
END:VCALENDAR