BEGIN:VCALENDAR
VERSION:2.0
PRODID:-//Wiggle Room - ECPv6.15.20//NONSGML v1.0//EN
CALSCALE:GREGORIAN
METHOD:PUBLISH
X-WR-CALNAME:Wiggle Room
X-ORIGINAL-URL:https://wiggleroommke.com
X-WR-CALDESC:Events for Wiggle Room
REFRESH-INTERVAL;VALUE=DURATION:PT1H
X-Robots-Tag:noindex
X-PUBLISHED-TTL:PT1H
BEGIN:VTIMEZONE
TZID:America/Chicago
BEGIN:DAYLIGHT
TZOFFSETFROM:-0600
TZOFFSETTO:-0500
TZNAME:CDT
DTSTART:20240310T080000
END:DAYLIGHT
BEGIN:STANDARD
TZOFFSETFROM:-0500
TZOFFSETTO:-0600
TZNAME:CST
DTSTART:20241103T070000
END:STANDARD
BEGIN:DAYLIGHT
TZOFFSETFROM:-0600
TZOFFSETTO:-0500
TZNAME:CDT
DTSTART:20250309T080000
END:DAYLIGHT
BEGIN:STANDARD
TZOFFSETFROM:-0500
TZOFFSETTO:-0600
TZNAME:CST
DTSTART:20251102T070000
END:STANDARD
BEGIN:DAYLIGHT
TZOFFSETFROM:-0600
TZOFFSETTO:-0500
TZNAME:CDT
DTSTART:20260308T080000
END:DAYLIGHT
BEGIN:STANDARD
TZOFFSETFROM:-0500
TZOFFSETTO:-0600
TZNAME:CST
DTSTART:20261101T070000
END:STANDARD
END:VTIMEZONE
BEGIN:VEVENT
DTSTART;TZID=America/Chicago:20251031T160000
DTEND;TZID=America/Chicago:20251031T200000
DTSTAMP:20260420T142025
CREATED:20250625T230948Z
LAST-MODIFIED:20251007T202408Z
UID:620-1761926400-1761940800@wiggleroommke.com
SUMMARY:Roach & Matt's Horror Happy Hour
DESCRIPTION:Roach & Matt play Horror Soundtracks during Happy Hour.
URL:https://wiggleroommke.com/event/roach-matts-horror-happy-hour/
END:VEVENT
BEGIN:VEVENT
DTSTART;TZID=America/Chicago:20251030T190000
DTEND;TZID=America/Chicago:20251030T230000
DTSTAMP:20260420T142025
CREATED:20251007T224508Z
LAST-MODIFIED:20251010T003110Z
UID:852-1761850800-1761865200@wiggleroommke.com
SUMMARY:”Amorphous Blob” Halloween Soundtrack Spin
DESCRIPTION:
URL:https://wiggleroommke.com/event/amorphous-blob-halloween-soundtrack-spin/
ATTACH;FMTTYPE=image/jpeg:https://wiggleroommke.com/wp-content/uploads/2025/10/att.JZplEJ090oh-JFY6ALQSn_krXCu-HK0PbGLvlqUh4co.png.jpeg
END:VEVENT
BEGIN:VEVENT
DTSTART;TZID=America/Chicago:20251029T190000
DTEND;TZID=America/Chicago:20251029T230000
DTSTAMP:20260420T142025
CREATED:20251007T224345Z
LAST-MODIFIED:20251018T175134Z
UID:851-1761764400-1761778800@wiggleroommke.com
SUMMARY:Radioactivity LP listening party with Ken from Dirtnap Records!
DESCRIPTION:
URL:https://wiggleroommke.com/event/dj-aims/
ATTACH;FMTTYPE=image/jpeg:https://wiggleroommke.com/wp-content/uploads/2025/10/IMG_2113.jpeg
END:VEVENT
BEGIN:VEVENT
DTSTART;TZID=America/Chicago:20251028T190000
DTEND;TZID=America/Chicago:20251028T230000
DTSTAMP:20260420T142025
CREATED:20251004T004106Z
LAST-MODIFIED:20251007T202245Z
UID:831-1761678000-1761692400@wiggleroommke.com
SUMMARY:Apollo Vermouth
DESCRIPTION:
URL:https://wiggleroommke.com/event/apollo-vermouth-2/
ATTACH;FMTTYPE=image/jpeg:https://wiggleroommke.com/wp-content/uploads/2025/10/5DDF83DE-1D9F-4CB1-872C-D8127FE93205.jpeg
END:VEVENT
BEGIN:VEVENT
DTSTART;TZID=America/Chicago:20251027T190000
DTEND;TZID=America/Chicago:20251027T230000
DTSTAMP:20260420T142025
CREATED:20251004T004203Z
LAST-MODIFIED:20251022T200459Z
UID:832-1761591600-1761606000@wiggleroommke.com
SUMMARY:Metal Monday w/ Mike Gamm
DESCRIPTION:
URL:https://wiggleroommke.com/event/metal-monday-w-mike-gamm-2/
ATTACH;FMTTYPE=image/jpeg:https://wiggleroommke.com/wp-content/uploads/2025/10/8521271635138222910.jpeg
END:VEVENT
BEGIN:VEVENT
DTSTART;TZID=America/Chicago:20251025T200000
DTEND;TZID=America/Chicago:20251026T000000
DTSTAMP:20260420T142025
CREATED:20251004T004258Z
LAST-MODIFIED:20251022T200720Z
UID:833-1761422400-1761436800@wiggleroommke.com
SUMMARY:Don Black & Fancy Nancy
DESCRIPTION:
URL:https://wiggleroommke.com/event/don-black-fancy-nancy/
ATTACH;FMTTYPE=image/jpeg:https://wiggleroommke.com/wp-content/uploads/2025/10/IMG_2149.jpeg
END:VEVENT
BEGIN:VEVENT
DTSTART;TZID=America/Chicago:20251024T200000
DTEND;TZID=America/Chicago:20251025T000000
DTSTAMP:20260420T142025
CREATED:20251004T004429Z
LAST-MODIFIED:20251022T200621Z
UID:834-1761336000-1761350400@wiggleroommke.com
SUMMARY:Mr. Automatic
DESCRIPTION:
URL:https://wiggleroommke.com/event/mr-automatic-2/
ATTACH;FMTTYPE=image/jpeg:https://wiggleroommke.com/wp-content/uploads/2025/10/B4458873-C963-4FAE-95C4-C64837790C5F.jpeg
END:VEVENT
BEGIN:VEVENT
DTSTART;TZID=America/Chicago:20251023T190000
DTEND;TZID=America/Chicago:20251023T230000
DTSTAMP:20260420T142025
CREATED:20251007T224648Z
LAST-MODIFIED:20251018T181739Z
UID:853-1761246000-1761260400@wiggleroommke.com
SUMMARY:Brian Damage’s Halloween Spin!
DESCRIPTION:
URL:https://wiggleroommke.com/event/vivid-underscores-library-records-spin-w-christreater-and-friends/
ATTACH;FMTTYPE=image/jpeg:https://wiggleroommke.com/wp-content/uploads/2025/10/6F622A85-ADD1-42EA-9213-EC18E850ECDD.jpeg
END:VEVENT
BEGIN:VEVENT
DTSTART;TZID=America/Chicago:20251022T190000
DTEND;TZID=America/Chicago:20251022T230000
DTSTAMP:20260420T142025
CREATED:20250917T142438Z
LAST-MODIFIED:20251007T202310Z
UID:823-1761159600-1761174000@wiggleroommke.com
SUMMARY:DJ Baby Tyler
DESCRIPTION:
URL:https://wiggleroommke.com/event/dj-baby-tyler/
ATTACH;FMTTYPE=image/jpeg:https://wiggleroommke.com/wp-content/uploads/2025/09/81A40B4C-2B78-4B3F-A5C3-4BEB9231F4D4.jpeg
END:VEVENT
BEGIN:VEVENT
DTSTART;TZID=America/Chicago:20251021T190000
DTEND;TZID=America/Chicago:20251021T230000
DTSTAMP:20260420T142025
CREATED:20251004T004508Z
LAST-MODIFIED:20251004T004509Z
UID:835-1761073200-1761087600@wiggleroommke.com
SUMMARY:Queen Meabh
DESCRIPTION:
URL:https://wiggleroommke.com/event/queen-meabh/
END:VEVENT
BEGIN:VEVENT
DTSTART;TZID=America/Chicago:20251018T200000
DTEND;TZID=America/Chicago:20251019T000000
DTSTAMP:20260420T142025
CREATED:20251018T173048Z
LAST-MODIFIED:20251018T173049Z
UID:856-1760817600-1760832000@wiggleroommke.com
SUMMARY:Sylvan Esso
DESCRIPTION:Our friends Nick and Amelia (Sylvan Esso)  are in town and will be spinning records at 8pm!
URL:https://wiggleroommke.com/event/sylvan-esso/
ATTACH;FMTTYPE=image/jpeg:https://wiggleroommke.com/wp-content/uploads/2025/10/View-recent-photos.jpeg
END:VEVENT
BEGIN:VEVENT
DTSTART;TZID=America/Chicago:20251017T200000
DTEND;TZID=America/Chicago:20251018T000000
DTSTAMP:20260420T142025
CREATED:20250904T195541Z
LAST-MODIFIED:20250904T195541Z
UID:802-1760731200-1760745600@wiggleroommke.com
SUMMARY:Heebz & Tricknee
DESCRIPTION:
URL:https://wiggleroommke.com/event/heebz-tricknee/
END:VEVENT
BEGIN:VEVENT
DTSTART;TZID=America/Chicago:20251015T190000
DTEND;TZID=America/Chicago:20251015T230000
DTSTAMP:20260420T142025
CREATED:20251004T004617Z
LAST-MODIFIED:20251004T004618Z
UID:836-1760554800-1760569200@wiggleroommke.com
SUMMARY:Marcancion
DESCRIPTION:
URL:https://wiggleroommke.com/event/marcancion/
END:VEVENT
BEGIN:VEVENT
DTSTART;TZID=America/Chicago:20251014T190000
DTEND;TZID=America/Chicago:20251014T230000
DTSTAMP:20260420T142025
CREATED:20251007T224305Z
LAST-MODIFIED:20251007T224306Z
UID:850-1760468400-1760482800@wiggleroommke.com
SUMMARY:Kendall Cook
DESCRIPTION:
URL:https://wiggleroommke.com/event/kendall-cook/
END:VEVENT
BEGIN:VEVENT
DTSTART;TZID=America/Chicago:20251013T190000
DTEND;TZID=America/Chicago:20251013T230000
DTSTAMP:20260420T142025
CREATED:20251004T004701Z
LAST-MODIFIED:20251007T202347Z
UID:837-1760382000-1760396400@wiggleroommke.com
SUMMARY:Metal Monday w/ Chad Medrow
DESCRIPTION:
URL:https://wiggleroommke.com/event/metal-monday-w-chad-medrow/
ATTACH;FMTTYPE=image/jpeg:https://wiggleroommke.com/wp-content/uploads/2025/10/E6171D42-FAC5-4058-8EFD-E48D5169203B.jpeg
END:VEVENT
BEGIN:VEVENT
DTSTART;TZID=America/Chicago:20251011T200000
DTEND;TZID=America/Chicago:20251012T000000
DTSTAMP:20260420T142025
CREATED:20251004T004827Z
LAST-MODIFIED:20251007T202646Z
UID:838-1760212800-1760227200@wiggleroommke.com
SUMMARY:National Coming out day Queer Dance Party w/ La La Frou Frou & Queen Meabh
DESCRIPTION:
URL:https://wiggleroommke.com/event/national-coming-out-day-queer-dance-party-w-la-la-frou-frou-queen-meabh/
ATTACH;FMTTYPE=image/jpeg:https://wiggleroommke.com/wp-content/uploads/2025/10/251EE69C-B51D-4FAE-AD41-D8EFD2BA676F.jpeg
END:VEVENT
BEGIN:VEVENT
DTSTART;TZID=America/Chicago:20251010T200000
DTEND;TZID=America/Chicago:20251011T000000
DTSTAMP:20260420T142025
CREATED:20251004T004901Z
LAST-MODIFIED:20251004T004902Z
UID:839-1760126400-1760140800@wiggleroommke.com
SUMMARY:DJ Christreater
DESCRIPTION:
URL:https://wiggleroommke.com/event/dj-christreater/
END:VEVENT
BEGIN:VEVENT
DTSTART;TZID=America/Chicago:20251010T040000
DTEND;TZID=America/Chicago:20251010T200000
DTSTAMP:20260420T142025
CREATED:20250904T195056Z
LAST-MODIFIED:20250904T195056Z
UID:798-1760068800-1760126400@wiggleroommke.com
SUMMARY:HONKY TONK HAPPY HOUR  w/ LONG LINE RIDERS
DESCRIPTION:HONKY TONK HAPPY HOUR  w/ LONG LINE RIDERS – 4-8PM – NO COVER – We are super pumped for our monthly Friday happy hour residency with LONG LINE RIDERS  – Classic Country DJs – Band plays at 6:30 to 8pm – FUN
URL:https://wiggleroommke.com/event/honky-tonk-happy-hour-w-long-line-riders-2/
ATTACH;FMTTYPE=image/jpeg:https://wiggleroommke.com/wp-content/uploads/2025/09/Long-Oct.jpg
END:VEVENT
BEGIN:VEVENT
DTSTART;TZID=America/Chicago:20251009T190000
DTEND;TZID=America/Chicago:20251009T230000
DTSTAMP:20260420T142025
CREATED:20251004T004928Z
LAST-MODIFIED:20251007T223933Z
UID:840-1760036400-1760050800@wiggleroommke.com
SUMMARY:Ryan Fox
DESCRIPTION:
URL:https://wiggleroommke.com/event/ryan-fox/
ATTACH;FMTTYPE=image/jpeg:https://wiggleroommke.com/wp-content/uploads/2025/10/High_Concept.jpeg
END:VEVENT
BEGIN:VEVENT
DTSTART;TZID=America/Chicago:20251008T190000
DTEND;TZID=America/Chicago:20251008T230000
DTSTAMP:20260420T142025
CREATED:20251004T004953Z
LAST-MODIFIED:20251004T004954Z
UID:841-1759950000-1759964400@wiggleroommke.com
SUMMARY:Ben Gorder
DESCRIPTION:
URL:https://wiggleroommke.com/event/ben-gorder/
END:VEVENT
BEGIN:VEVENT
DTSTART;TZID=America/Chicago:20251007T190000
DTEND;TZID=America/Chicago:20251007T230000
DTSTAMP:20260420T142025
CREATED:20251007T224216Z
LAST-MODIFIED:20251007T224216Z
UID:849-1759863600-1759878000@wiggleroommke.com
SUMMARY:LILLIPUT RECORDS!
DESCRIPTION:
URL:https://wiggleroommke.com/event/lilliput-records/
END:VEVENT
BEGIN:VEVENT
DTSTART;TZID=America/Chicago:20251006T070000
DTEND;TZID=America/Chicago:20251006T230000
DTSTAMP:20260420T142025
CREATED:20250904T185843Z
LAST-MODIFIED:20250904T185843Z
UID:790-1759734000-1759791600@wiggleroommke.com
SUMMARY:Metal Monday with DJ ACE CROW
DESCRIPTION:Casey aka ACE CROW is in the booth playing heavy records for your Monday!
URL:https://wiggleroommke.com/event/metal-monday-with-dj-ace-crow-2/
END:VEVENT
BEGIN:VEVENT
DTSTART;TZID=America/Chicago:20251004T200000
DTEND;TZID=America/Chicago:20251005T000000
DTSTAMP:20260420T142025
CREATED:20250904T191258Z
LAST-MODIFIED:20250904T191259Z
UID:795-1759608000-1759622400@wiggleroommke.com
SUMMARY:Melissa Wagner-Lawler & Chris Roberts
DESCRIPTION:Soul\, Funk\, Disco\, Soft Rock and Yacht vibes
URL:https://wiggleroommke.com/event/melissa-wagner-lawler-chris-roberts/
END:VEVENT
BEGIN:VEVENT
DTSTART;TZID=America/Chicago:20251003T190000
DTEND;TZID=America/Chicago:20251004T000000
DTSTAMP:20260420T142025
CREATED:20250904T190942Z
LAST-MODIFIED:20250904T190942Z
UID:793-1759518000-1759536000@wiggleroommke.com
SUMMARY:BLAX spins the Classics
DESCRIPTION:The God Degree Sessions: BLAX spins the classics.  Soul Hip Hop\, 70’s\, 80’s\, and 90’s gems
URL:https://wiggleroommke.com/event/blax-spins-the-classics/
ATTACH;FMTTYPE=image/png:https://wiggleroommke.com/wp-content/uploads/2025/09/Sessions.png.png
END:VEVENT
BEGIN:VEVENT
DTSTART;TZID=America/Chicago:20251001T070000
DTEND;TZID=America/Chicago:20251001T230000
DTSTAMP:20260420T142025
CREATED:20250904T163717Z
LAST-MODIFIED:20250904T163718Z
UID:785-1759302000-1759359600@wiggleroommke.com
SUMMARY:Rob Sieracki & Ben Cowell (Touch and Go Records)
DESCRIPTION:Rob Sieracki & Ben Cowell (Touch and Go Records) spin a wide array of Punk\, World\, Funk Jazz\,\, Indie\, Psych\, New Wave\, Noise\, and more weirdness.  Not to be missed!
URL:https://wiggleroommke.com/event/rob-sieracki-ben-cowell-touch-and-go-records/
END:VEVENT
BEGIN:VEVENT
DTSTART;TZID=America/Chicago:20250930T190000
DTEND;TZID=America/Chicago:20251001T110000
DTSTAMP:20260420T142025
CREATED:20250904T163152Z
LAST-MODIFIED:20250905T224810Z
UID:784-1759258800-1759316400@wiggleroommke.com
SUMMARY:DJ AiMS
DESCRIPTION:
URL:https://wiggleroommke.com/event/dj-james-hackney-2/
ATTACH;FMTTYPE=image/jpeg:https://wiggleroommke.com/wp-content/uploads/2025/09/IMG_3248.jpeg
END:VEVENT
BEGIN:VEVENT
DTSTART;TZID=America/Chicago:20250929T200000
DTEND;TZID=America/Chicago:20250930T000000
DTSTAMP:20260420T142025
CREATED:20250904T163118Z
LAST-MODIFIED:20250905T181709Z
UID:783-1759176000-1759190400@wiggleroommke.com
SUMMARY:Metal Monday with Chad Medrow
DESCRIPTION:Chad is back spinning Heavy records all night!
URL:https://wiggleroommke.com/event/metal-monday-with-chad-medrow/
ATTACH;FMTTYPE=image/jpeg:https://wiggleroommke.com/wp-content/uploads/2025/09/A9F9702F-E387-4B53-A8CB-33058F84DD85.jpeg
END:VEVENT
BEGIN:VEVENT
DTSTART;TZID=America/Chicago:20250927T200000
DTEND;TZID=America/Chicago:20250927T200000
DTSTAMP:20260420T142025
CREATED:20250625T230838Z
LAST-MODIFIED:20250905T190655Z
UID:619-1759003200-1759003200@wiggleroommke.com
SUMMARY:KASE (Album Listening Party)
DESCRIPTION:KASE (Album Listening release / Listening Party) record spin and Intimate performance!
URL:https://wiggleroommke.com/event/kase-album-listening-party/
ATTACH;FMTTYPE=image/jpeg:https://wiggleroommke.com/wp-content/uploads/2025/06/kase_sets_release_8.5X11-scaled.jpeg
END:VEVENT
BEGIN:VEVENT
DTSTART;TZID=America/Chicago:20250926T200000
DTEND;TZID=America/Chicago:20250927T000000
DTSTAMP:20260420T142025
CREATED:20250731T160509Z
LAST-MODIFIED:20250731T160510Z
UID:735-1758916800-1758931200@wiggleroommke.com
SUMMARY:Caleb Westphal
DESCRIPTION:
URL:https://wiggleroommke.com/event/caleb-westphal/
END:VEVENT
BEGIN:VEVENT
DTSTART;TZID=America/Chicago:20250925T190000
DTEND;TZID=America/Chicago:20250925T230000
DTSTAMP:20260420T142025
CREATED:20250904T163026Z
LAST-MODIFIED:20250911T185100Z
UID:782-1758826800-1758841200@wiggleroommke.com
SUMMARY:Low Rider Oldies with DJ JMMBO
DESCRIPTION:Juan Miguel Martinez is back with another spin of LOW RIDER OLDIES!! This is an end of summer jam!
URL:https://wiggleroommke.com/event/low-rider-oldies-with-dj-jmmbo/
ATTACH;FMTTYPE=image/jpeg:https://wiggleroommke.com/wp-content/uploads/2025/09/C18D0357-AE66-4D90-9CCC-688D3BDA70C0.jpeg
END:VEVENT
END:VCALENDAR